BEGIN:VCALENDAR
CALSCALE:GREGORIAN
PRODID: SPIP https://www.spip.net
VERSION:2.0

X-WR-CALNAME;VALUE=TEXT:Berre l’Étang -- Agenda
X-WR-RELCALID:https://www.berreletang.fr



BEGIN:VEVENT
SUMMARY:Fête foraine  
UID:article3699 @ https://www.berreletang.fr
DTSTAMP:20240419T125607Z
DTSTART;VALUE=DATE:20260522
DTEND;VALUE=DATE:20260525
CREATED:20240419T125607Z
LAST-MODIFIED:20260421T133456Z
LOCATION:Parking des lices
CATEGORIES:Agenda Berre l'Étang
URL:https://berreletang.fr/feteforaine-enmai
STATUS:CONFIRMED
END:VEVENT
END:VCALENDAR