BEGIN:VCALENDAR
CALSCALE:GREGORIAN
PRODID: SPIP https://www.spip.net
VERSION:2.0

X-WR-CALNAME;VALUE=TEXT:Berre l’Étang -- Agenda
X-WR-RELCALID:https://www.berreletang.fr



BEGIN:VEVENT
SUMMARY:Café parents  - de Maé fée du Bonheur
UID:article3871 @ https://www.berreletang.fr
DTSTAMP:20250115T104950Z
DTSTART:20260505T120000Z
DTEND:20260505T120000Z
CREATED:20250115T104950Z
LAST-MODIFIED:20250812T113706Z
LOCATION:Médiathèque
CATEGORIES:Agenda Berre l'Étang
URL:https://berreletang.fr/cafe-parents
STATUS:CONFIRMED
END:VEVENT
END:VCALENDAR