BEGIN:VCALENDAR
CALSCALE:GREGORIAN
PRODID: SPIP https://www.spip.net
VERSION:2.0

X-WR-CALNAME;VALUE=TEXT:Berre l’Étang -- Agenda
X-WR-RELCALID:https://www.berreletang.fr



BEGIN:VEVENT
SUMMARY:Les vendredis du sport  
UID:article3885 @ https://www.berreletang.fr
DTSTAMP:20250217T104859Z
DTSTART:20260424T083000Z
DTEND:20260424T093000Z
CREATED:20250217T104859Z
LAST-MODIFIED:20260114T135158Z
LOCATION:Selon la date
CATEGORIES:Agenda Berre l'Étang
URL:https://berreletang.fr/les-vendredis-du-sport
STATUS:CONFIRMED
END:VEVENT
END:VCALENDAR