BEGIN:VCALENDAR
CALSCALE:GREGORIAN
PRODID: SPIP https://www.spip.net
VERSION:2.0

X-WR-CALNAME;VALUE=TEXT:Berre l’Étang -- Agenda
X-WR-RELCALID:https://www.berreletang.fr



BEGIN:VEVENT
SUMMARY:Sortie nature - Oiseaux des jardins 
UID:article3943 @ https://www.berreletang.fr
DTSTAMP:20250515T080813Z
DTSTART;VALUE=DATE:20260527
DTEND;VALUE=DATE:20260528
CREATED:20250515T080813Z
LAST-MODIFIED:20260422T123406Z
LOCATION:En ville
CATEGORIES:Agenda Berre l'Étang
URL:https://berreletang.fr/sortie-nature
STATUS:CONFIRMED
END:VEVENT
END:VCALENDAR