BEGIN:VCALENDAR
CALSCALE:GREGORIAN
PRODID: SPIP https://www.spip.net
VERSION:2.0

X-WR-CALNAME;VALUE=TEXT:Berre l’Étang -- Agenda
X-WR-RELCALID:https://www.berreletang.fr



BEGIN:VEVENT
SUMMARY:Concours de peinture - Vernissage et remise des prix 
UID:article4117 @ https://www.berreletang.fr
DTSTAMP:20260309T093329Z
DTSTART:20261114T170000Z
DTEND:20261114T170000Z
CREATED:20260309T093329Z
LAST-MODIFIED:20260309T094814Z
LOCATION:Médiathèque
CATEGORIES:Agenda Berre l'Étang
URL:https://berreletang.fr/concours-de-peinture
STATUS:CONFIRMED
END:VEVENT
END:VCALENDAR