BEGIN:VCALENDAR
CALSCALE:GREGORIAN
PRODID: SPIP https://www.spip.net
VERSION:2.0

X-WR-CALNAME;VALUE=TEXT:Berre l’Étang -- Agenda
X-WR-RELCALID:https://www.berreletang.fr



BEGIN:VEVENT
SUMMARY:Zone à 30  - 30 minutes de sport
UID:article3678 @ https://www.berreletang.fr
DTSTAMP:20260316T130648Z
DTSTART:20260615T153000Z
DTEND:20260615T153000Z
CREATED:20260316T130648Z
LAST-MODIFIED:20260323T125554Z
LOCATION:Mémorial Dept
CATEGORIES:Agenda Berre l'Étang
URL:https://berreletang.fr/zone-a-30
STATUS:CONFIRMED
END:VEVENT
END:VCALENDAR