BEGIN:VCALENDAR
CALSCALE:GREGORIAN
PRODID: SPIP https://www.spip.net
VERSION:2.0

X-WR-CALNAME;VALUE=TEXT:Berre l’Étang -- Agenda
X-WR-RELCALID:https://www.berreletang.fr



BEGIN:VEVENT
SUMMARY:Tournoi  - Tennis de table - ASC Lanbernac
UID:article1110 @ https://www.berreletang.fr
DTSTAMP:20260421T100931Z
DTSTART;VALUE=DATE:20260501
DTEND;VALUE=DATE:20260502
CREATED:20260421T100931Z
LAST-MODIFIED:20251020T091335Z
LOCATION:Cosec-Dojo
CATEGORIES:Agenda Berre l'Étang
URL:https://berreletang.fr/championnat-departemental
STATUS:CONFIRMED
END:VEVENT
END:VCALENDAR