BEGIN:VCALENDAR
CALSCALE:GREGORIAN
PRODID: SPIP https://www.spip.net
VERSION:2.0

X-WR-CALNAME;VALUE=TEXT:Berre l’Étang -- Agenda
X-WR-RELCALID:https://www.berreletang.fr



BEGIN:VEVENT
SUMMARY:Stage Para Tennis - Stages Para Tennis 
UID:article4140 @ https://www.berreletang.fr
DTSTAMP:19991231T230000Z
DTSTART:20260515T070000Z
DTEND:20260515T070000Z
CREATED:19991231T230000Z
LAST-MODIFIED:20260421T130505Z
LOCATION:Complexe Arnaud Clément
CATEGORIES:Agenda Berre l'Étang
URL:https://berreletang.fr/stage-paratennis
STATUS:CONFIRMED
END:VEVENT
END:VCALENDAR