BEGIN:VCALENDAR
CALSCALE:GREGORIAN
PRODID: SPIP https://www.spip.net
VERSION:2.0

X-WR-CALNAME;VALUE=TEXT:Berre l’Étang -- Agenda
X-WR-RELCALID:https://www.berreletang.fr



BEGIN:VEVENT
SUMMARY:Un dimanche en Provence  - En bord d'étang
UID:article4141 @ https://www.berreletang.fr
DTSTAMP:20260421T144316Z
DTSTART:20260524T080000Z
DTEND:20260524T080000Z
CREATED:20260421T144316Z
LAST-MODIFIED:20260421T145058Z
LOCATION:Promenade Littorale
CATEGORIES:Agenda Berre l'Étang
URL:https://berreletang.fr/un-dimanche-en-provence
STATUS:CONFIRMED
END:VEVENT
END:VCALENDAR