BEGIN:VCALENDAR
CALSCALE:GREGORIAN
PRODID: SPIP https://www.spip.net
VERSION:2.0

X-WR-CALNAME;VALUE=TEXT:Berre l’Étang -- Agenda
X-WR-RELCALID:https://www.berreletang.fr



BEGIN:VEVENT
SUMMARY:Ateliers numériques du mois - Informatique - découverte 
UID:article3371 @ https://www.berreletang.fr
DTSTAMP:20260212T130656Z
DTSTART:20260513T073000Z
DTEND:20260513T073000Z
CREATED:20260212T130656Z
LAST-MODIFIED:20260423T074530Z
LOCATION:Espace numérique
CATEGORIES:Agenda Berre l'Étang
URL:https://berreletang.fr/ateliersnumeriques
STATUS:CONFIRMED
END:VEVENT
END:VCALENDAR