BEGIN:VCALENDAR
CALSCALE:GREGORIAN
PRODID: SPIP https://www.spip.net
VERSION:2.0

X-WR-CALNAME;VALUE=TEXT:Berre l’Étang -- Agenda
X-WR-RELCALID:https://www.berreletang.fr



BEGIN:VEVENT
SUMMARY:Les ateliers du mois en famille - Yoga séniors 
UID:article4046 @ https://www.berreletang.fr
DTSTAMP:20260401T145154Z
DTSTART:20260529T080000Z
DTEND:20260529T080000Z
CREATED:20260401T145154Z
LAST-MODIFIED:20260423T082117Z
LOCATION:Aquarelle
CATEGORIES:Agenda Berre l'Étang
URL:https://berreletang.fr/lesateliers-dumois
STATUS:CONFIRMED
END:VEVENT
END:VCALENDAR