BEGIN:VCALENDAR
CALSCALE:GREGORIAN
PRODID: SPIP https://www.spip.net
VERSION:2.0

X-WR-CALNAME;VALUE=TEXT:Berre l’Étang -- Agenda
X-WR-RELCALID:https://www.berreletang.fr



BEGIN:VEVENT
SUMMARY:La grande tombola  - de l'ADEB
UID:article1090 @ https://www.berreletang.fr
DTSTAMP:20170124T083449Z
DTSTART;VALUE=DATE:20260530
DTEND;VALUE=DATE:20260621
CREATED:20170124T083449Z
LAST-MODIFIED:20260422T122805Z
LOCATION:Sur la ville
CATEGORIES:Agenda Berre l'Étang
URL:https://berreletang.fr/la-grande-tombola-de-l-adeb
STATUS:CONFIRMED
END:VEVENT
END:VCALENDAR